BEGIN:VCALENDAR
VERSION:2.0
PRODID:-//38b53d0a98213f8545400998430e28ac07d24159//NONSGML kigkonsult.se i
 Calcreator 2.39.1//
CALSCALE:GREGORIAN
UID:adbb0b08-a53f-4c83-8556-6ec5411c6f89
BEGIN:VTIMEZONE
TZID:UTC
END:VTIMEZONE
BEGIN:VEVENT
UID:173950c3-678e-4422-889d-f5c95be62c03
DTSTAMP:20260423T035618Z
CLASS:PUBLIC
DESCRIPTION:
DTSTART;TZID=Europe/Vienna:20260425T130000
DTEND;TZID=Europe/Vienna:20260425T140000
LOCATION:
SEQUENCE:1
SUMMARY:Trauung von David Harm und Theresa Klaghofer
TRANSP:OPAQUE
END:VEVENT
END:VCALENDAR
