BEGIN:VCALENDAR
VERSION:2.0
PRODID:-//811f5673f94402bc3075a46ad81bba76bc74f185//NONSGML kigkonsult.se i
 Calcreator 2.39.1//
CALSCALE:GREGORIAN
UID:70c38820-2a19-4387-9651-9f5e179c28a8
BEGIN:VTIMEZONE
TZID:UTC
END:VTIMEZONE
BEGIN:VEVENT
UID:00a77619-ed6a-403f-af61-7c5f516892dd
DTSTAMP:20260423T035501Z
CLASS:PUBLIC
DESCRIPTION:
DTSTART;TZID=Europe/Vienna:20260425T180000
DTEND;TZID=Europe/Vienna:20260425T190000
LOCATION:
SEQUENCE:1
SUMMARY:Rosenkranz und Beichtgelegenheit
TRANSP:OPAQUE
END:VEVENT
END:VCALENDAR
