BEGIN:VCALENDAR
VERSION:2.0
PRODID:-//c80ff7074e80a498ebf935fdf977af002af380ca//NONSGML kigkonsult.se i
 Calcreator 2.39.1//
CALSCALE:GREGORIAN
UID:ccc1ec19-03ac-4f4d-86a3-680a5ed64789
BEGIN:VTIMEZONE
TZID:UTC
END:VTIMEZONE
BEGIN:VEVENT
UID:22788321-b5d3-41ba-b2ae-dab96489c6cd
DTSTAMP:20260423T035150Z
CLASS:PUBLIC
DESCRIPTION:
DTSTART;TZID=Europe/Vienna:20260425T180000
DTEND;TZID=Europe/Vienna:20260425T190000
LOCATION:
SEQUENCE:1
SUMMARY:Rosenkranz
TRANSP:OPAQUE
END:VEVENT
END:VCALENDAR
