BEGIN:VCALENDAR
VERSION:2.0
PRODID:-//2e70d4cf7c70ca6bfc9f97bcdb22a31de399f6b2//NONSGML kigkonsult.se i
 Calcreator 2.39.1//
CALSCALE:GREGORIAN
UID:7f1b93b2-ab83-4924-8548-733fef059497
BEGIN:VTIMEZONE
TZID:UTC
END:VTIMEZONE
BEGIN:VEVENT
UID:b00675a0-93fb-4c75-8028-16131106e5f5
DTSTAMP:20260424T191554Z
CLASS:PUBLIC
DESCRIPTION:Zusammen mit der Opfersammlung wird auch die Sammlung für die D
 iözesane Priesterausbildung durchgeführt.
DTSTART;TZID=Europe/Vienna:20260426T100000
DTEND;TZID=Europe/Vienna:20260426T110000
LOCATION:
SEQUENCE:1
SUMMARY:Hl. Messe
TRANSP:OPAQUE
END:VEVENT
END:VCALENDAR
