BEGIN:VCALENDAR
VERSION:2.0
PRODID:-//294170990016021acd2021c6dcc382c5e1638793//NONSGML kigkonsult.se i
 Calcreator 2.39.1//
CALSCALE:GREGORIAN
UID:a08f88db-c5e9-4e3a-b73d-f231b855ed10
BEGIN:VTIMEZONE
TZID:UTC
END:VTIMEZONE
BEGIN:VEVENT
UID:e0cfd906-b993-4481-b415-f5b7fed65ce2
DTSTAMP:20260423T123803Z
CLASS:PUBLIC
DESCRIPTION:Für + Franz Schmatz
DTSTART;TZID=Europe/Vienna:20260422T183000
DTEND;TZID=Europe/Vienna:20260422T193000
LOCATION:
SEQUENCE:1
SUMMARY:Hl. Messe
TRANSP:OPAQUE
END:VEVENT
END:VCALENDAR
