BEGIN:VCALENDAR
VERSION:2.0
PRODID:-//4bca7280bb97271d9f2b00e4936dfb28d9f1543f//NONSGML kigkonsult.se i
 Calcreator 2.39.1//
CALSCALE:GREGORIAN
UID:009cb999-6b2a-4584-bc3b-e342fc65e758
BEGIN:VTIMEZONE
TZID:UTC
END:VTIMEZONE
BEGIN:VEVENT
UID:1370e054-755a-4ead-9f82-c0a5ff776a2e
DTSTAMP:20260424T191440Z
CLASS:PUBLIC
DESCRIPTION:
DTSTART;TZID=Europe/Vienna:20260426T000000
DTEND;TZID=Europe/Vienna:20260426T000000
LOCATION:
SEQUENCE:1
SUMMARY:Ewiges Licht: Fr. Schuecker
TRANSP:OPAQUE
END:VEVENT
END:VCALENDAR
