BEGIN:VCALENDAR
VERSION:2.0
PRODID:-//3aa2c37cef4577e29068e76142a8186dee4fda41//NONSGML kigkonsult.se i
 Calcreator 2.39.1//
CALSCALE:GREGORIAN
UID:3ec4b526-535b-46ba-a0e9-cb8f78478b88
BEGIN:VTIMEZONE
TZID:UTC
END:VTIMEZONE
BEGIN:VEVENT
UID:59e50dc5-cabc-4210-b69e-d5c2628a821d
DTSTAMP:20260424T192237Z
CLASS:PUBLIC
DESCRIPTION:
DTSTART;TZID=Europe/Vienna:20260426T000000
DTEND;TZID=Europe/Vienna:20260426T000000
LOCATION:
SEQUENCE:1
SUMMARY:Ewiges Licht: Fam. Heinzl\, Hafnerbach\, auf besondere Meinung
TRANSP:OPAQUE
END:VEVENT
END:VCALENDAR
