BEGIN:VCALENDAR
VERSION:2.0
PRODID:-//6978958cc4978f408a8f2770a21f211984343811//NONSGML kigkonsult.se i
 Calcreator 2.39.1//
CALSCALE:GREGORIAN
UID:535056de-684a-4b80-91eb-ae63bd66c9c7
BEGIN:VTIMEZONE
TZID:UTC
END:VTIMEZONE
BEGIN:VEVENT
UID:47755030-38cd-451a-a7ed-2e2e50758e72
DTSTAMP:20260422T030024Z
CLASS:PUBLIC
DESCRIPTION:
DTSTART;TZID=Europe/Vienna:20260424T160000
DTEND;TZID=Europe/Vienna:20260424T170000
LOCATION:
SEQUENCE:1
SUMMARY:Anbetung
TRANSP:OPAQUE
END:VEVENT
END:VCALENDAR
