BEGIN:VCALENDAR
VERSION:2.0
PRODID:-//c27e94850035a3f22f749cbb863a8f36ced42c88//NONSGML kigkonsult.se i
 Calcreator 2.39.1//
CALSCALE:GREGORIAN
UID:403e3c99-7d2d-49ac-aaee-7c26ee7cbe68
BEGIN:VTIMEZONE
TZID:UTC
END:VTIMEZONE
BEGIN:VEVENT
UID:ac2810f4-353a-4147-9530-87733a5b2204
DTSTAMP:20260423T124723Z
CLASS:PUBLIC
DESCRIPTION:
DTSTART;TZID=Europe/Vienna:20260422T173000
DTEND;TZID=Europe/Vienna:20260422T183000
LOCATION:
SEQUENCE:1
SUMMARY:Anbetung
TRANSP:OPAQUE
END:VEVENT
END:VCALENDAR
